BEGIN:VCALENDAR
VERSION:2.0
PRODID:-//Visit Rio - ECPv6.5.0//NONSGML v1.0//EN
CALSCALE:GREGORIAN
METHOD:PUBLISH
X-ORIGINAL-URL:https://dev.visitrio.com.br
X-WR-CALDESC:Eventos para Visit Rio
REFRESH-INTERVAL;VALUE=DURATION:PT1H
X-Robots-Tag:noindex
X-PUBLISHED-TTL:PT1H
BEGIN:VTIMEZONE
TZID:America/Sao_Paulo
BEGIN:STANDARD
TZOFFSETFROM:-0300
TZOFFSETTO:-0300
TZNAME:-03
DTSTART:20260101T000000
END:STANDARD
END:VTIMEZONE
BEGIN:VEVENT
DTSTART;TZID=America/Sao_Paulo:20260426T090000
DTEND;TZID=America/Sao_Paulo:20260426T090000
DTSTAMP:20260419T131223
CREATED:20251105T171519Z
LAST-MODIFIED:20251105T171519Z
UID:10001658-1777194000-1777194000@dev.visitrio.com.br
SUMMARY:The Weeknd - After Hours Til Dawn
DESCRIPTION:Prepare-se para um show histórico! The Weeknd\, um dos maiores astros globais\, traz sua aclamada turnê “After Hours Til Dawn” para o Brasil. A apresentação\, que celebra os álbuns “After Hours” e “Dawn FM”\, contará com a participação especial de Anitta. Uma parte da renda dos ingressos será destinada a projetos de educação e combate à fome. É a oportunidade perfeita para ver um show que já quebrou recordes mundiais.
URL:https://dev.visitrio.com.br/evento/the-weeknd-after-hours-til-dawn/
END:VEVENT
END:VCALENDAR